BEGIN:VCALENDAR
VERSION:2.0
BEGIN:VEVENT
URL:https://artcity21.com/world/index.php/events/viewevent/1976-best-nft 
DTSTART:20221215T054500
DTEND:20391208T153000
SUMMARY:Best nft
DESCRIPTION:The Seaside Club business holding is a link between the real world and the digital world with the help of blockchain technology and [url=https://seaside.club/]best nft[/url] You are guaranteed to receive dividends from your investments, the transparency of operations is guaranteed.
LOCATION:USA
END:VEVENT
END:VCALENDAR