BEGIN:VCALENDAR
VERSION:2.0
BEGIN:VEVENT
URL:https://artcity21.com/world/index.php/events/viewevent/1974-best-nft 
DTSTART:20221215T104500
DTEND:20261211T013000
SUMMARY:Best nft 
DESCRIPTION:The Seaside Club business holding is a link between the real world and the digital world with the help of blockchain technology and best nft https://seaside.club/ You are guaranteed to receive dividends from your investments, the transparency of operations is guaranteed.
LOCATION:NY
END:VEVENT
END:VCALENDAR