BEGIN:VCALENDAR
VERSION:2.0
BEGIN:VEVENT
URL:https://artcity21.com/world/index.php/events/viewevent/1493-that-is-a-great-idea 
DTSTART:20210205T000000
DTEND:20220612T001500
SUMMARY:That is a great idea
DESCRIPTION:<br /><p>This was the article I have been on the lookout for <a href="https://www.igcoupon.com/Mlb21-Stubs.html">MLB 21 the show stub</a>s since I received the game!You're probably the very first user I've followed. Saved the article too. Thanks so much.I'm just here to shout out the female reproductive map.Cool, included. I will see if I could get a link to the rewards on it.Great idea and thanks to do this all compiled. Perhaps it's here and I overlooked it, but I feel that a section on general baseball strategy could be a helpful source for new and veteran players alike.</p><br /><p>In an overall sense I'm thinking things such as the following. For hitting this really is the way to approach an at-bat, what pitches to search for in some counts, when to lay off and should be competitive, ect. For pitching it might be things like pitch sequencing, tunneling, realizing what pitch/location your opponent can and can't reach, ect. For baserunning it could include types of hits you should try and stretch for extra-bases, when you should play it safe, what counts to slip on, ect. Fielding could talk which plays to try for and not attempt to find in different defensive situations.</p><br /><p>Even though there's certainly not straightforward consensus on those things I believe that their is some generally good advice to follow, particularly for individuals next game cycle that are brand new to baseball.</p><br /><p>That is a great idea. If there's a great article you've got in mind I can link to <a href="https://www.igcoupon.com/Mlb21-Stubs.html">buy MLB The Show 21 Stubs</a>, allow me to know.</p>
LOCATION:china
END:VEVENT
END:VCALENDAR