BEGIN:VCALENDAR
VERSION:2.0
BEGIN:VEVENT
URL:https://artcity21.com/world/index.php/events/viewevent/1271-take-swing-dance-lessons-to-learn-the-retro-style-dancing 
DTSTART:20191018T000000
DTEND:20251120T001500
SUMMARY:Take Swing Dance Lessons to Learn the Retro Style Dancing
DESCRIPTION:<p style="text-align: justify;">There are still so many people in the  world who love retro music and retro style dance. For people who love  retro form or entertainment, Swing Dance is the first thing that comes  up in mind. Swing Dance, which was extremely popular from the period of  1920 to 1940 has again seen a spike in the demand. Today's generation  seems to be very highly fascinated by this retro style dance and retro  style parties with <a><strong>Swing dance</strong></a> has become extremely popular today. There seems to be no end to the  popularity and this seems would continue to rule the roost even in the  future. One of the reasons why Swing dance is so popular is that it is  this dance style that has laid the foundation of many other forms or  styles of dance that also include disco, hip hop and country line  dancing. There are so many clubs today that conduct Swing dance contests  all over the world and the number of participants participating in  these contests is unbelievable. <strong>Swing dancing clubs</strong> and contests are held all over the world even today.</p>
<p style="text-align: justify;">If you are someone who has an interest to try out <a><strong>swing dancing London</strong></a><strong></strong> and tear the dance floor there, Swing Patrol is very much available to  help you out. Swing Patrol conducts weekly swing dance lessons in London  and the surrounding areas. Swing Patrol will also conduct a one-day  dance workshop that will cover all the basic movements of Swing Dance.  You do not have to book your weekly classes in advance. You can go  whenever you are free, just walk-in and join the classes. If you do not  have a dance partner, it is not at all a matter of concern. During the  classes, partners will be rotated. Most of the people prefer it this way  as they would be able to learn the dance in a social setting and one  can make good number of friends during the class. Swing Patrol conducts  about 35 classes weekly that range from the beginner's level to the most  advanced level. The classes will be held across the city of London and  Brighton at different venues. Swing Patrol takes pride in having one of  the best teaching team that has been built over years. The classes are  totally energetic and fun. You get to socialize with various people on  the dance floor. You can also make a lot of friends and at the same  time, learn to dance.</p>
<p style="text-align: justify;">Are you Looking for <strong><a href="http://www.swingpatrol.co.uk/">1920s dancers for hire</a></strong> your Event? Swingpatrol provides best swing dance for your vintage  wedding, party or themed event at an affordable Cost. To know more  details about <strong><a href="http://www.swingpatrol.co.uk/">1940s dancers for hire</a></strong>, please visit us.</p>
 
<p style="text-align: justify;">Swingpatrol<br />Brighton<br />London<br />England<br />80601<br />United Kingdom<br />020 3151 1750<br />info@swingpatrol.co.uk</p>
LOCATION:United Kingdom
END:VEVENT
END:VCALENDAR